BEGIN:VCALENDAR
VERSION:2.0
PRODID:-//wfc Wirtschaftsförderung Kreis Coesfeld - ECPv6.11.2//NONSGML v1.0//EN
CALSCALE:GREGORIAN
METHOD:PUBLISH
X-WR-CALNAME:wfc Wirtschaftsförderung Kreis Coesfeld
X-ORIGINAL-URL:https://wfc-kreis-coesfeld.de
X-WR-CALDESC:Veranstaltungen für wfc Wirtschaftsförderung Kreis Coesfeld
REFRESH-INTERVAL;VALUE=DURATION:PT1H
X-Robots-Tag:noindex
X-PUBLISHED-TTL:PT1H
BEGIN:VTIMEZONE
TZID:Europe/Berlin
BEGIN:DAYLIGHT
TZOFFSETFROM:+0100
TZOFFSETTO:+0200
TZNAME:CEST
DTSTART:20260329T010000
END:DAYLIGHT
BEGIN:STANDARD
TZOFFSETFROM:+0200
TZOFFSETTO:+0100
TZNAME:CET
DTSTART:20261025T010000
END:STANDARD
END:VTIMEZONE
BEGIN:VEVENT
DTSTART;TZID=Europe/Berlin:20260413T123000
DTEND;TZID=Europe/Berlin:20260520T130500
DTSTAMP:20260420T044556
CREATED:20260218T145219Z
LAST-MODIFIED:20260218T145517Z
UID:19926-1776083400-1779282300@wfc-kreis-coesfeld.de
SUMMARY:Fitte Firma: Die bewegte Mittagspause ab Mitte April 2026
DESCRIPTION:Fitness und Bewegung am Arbeitsplatz über sechs Wochen hinweg: Das ermöglicht die Fitte Firma des Netzwerks GesundArbeiten in Kooperation mit den Kreissportbünden Coesfeld und Borken.\n\n\nIn kurzen\, 15-minütigen Einheiten zeigen ausgebildete Übungsleitende aus Sportvereinen der Kreise Coesfeld und Borken per Zoom-Meeting in der Mittagspause\, welche Übungen die Beschäftigten einfach und effektiv im Büro oder Zuhause machen können\, um in Bewegung zu bleiben\, sich fit zu halten oder Verspannungen zu lösen. Ziel ist es\, die Beschäftigten auf diese Weise für das Thema zu sensibilisieren\, damit sie gesund und fit in den Winter kommen. \nDie Fitte Firma findet vom 13. April bis 20. Mai 2026 jeweils montags und mittwochs in zwei Blöcken statt: 12.30 bis 12.45 Uhr sowie 12.50 bis 13.05 Uhr. Die Teilnahme ist jeweils flexibel am passenden Termin möglich. \nAlles was zur Teilnahme nötig ist\, ist ein Computer\, Laptop\, Tablet oder Handy (mit Eignung für das Videokonferenzsystem Zoom)\, ein Internetzugang sowie rund ein Quadratmeter Platz. Die Teilnahme ist ohne Umziehen und ohne Schwitzen möglich – Ausgleichs- und Entspannungsübungen stehen im Vordergrund. \nDer Kostenbeitrag für sechs Wochen beträgt pro Unternehmen einmalig 59 Euro – egal wie viele Beschäftigte am Angebot teilnehmen. Es ist daher ausreichend\, wenn nur das Unternehmen (nicht die einzelnen Beschäftigen) sich einmalig anmeldet. Bitte beachten Sie\, dass Ihre Daten zum Zweck der Rechnungsstellung einmalig an den Kreissportbund Coesfeld weitergegeben werden. \nDen Link zum Bewegungsangebot verschickt das Netzwerk GesundArbeiten kurz vor Beginn der sechswöchigen Phase an die teilnehmenden Unternehmen. Der Link sollte dann unternehmensintern an die Beschäftigen weitergeleitet werden. \nAnmeldungen über folgenden Link: https://wfg-borken.de/event/?va=311 \nDas Netzwerk GesundArbeiten \nRegelmäßig bietet das Netzwerk GesundArbeiten für jeden offene Vertiefungsworkshops zu verschiedenen Themen rund ums gesunde Arbeiten und interessanten Möglichkeiten des Betrieblichen Gesundheitmanagement an. Das Netzwerk möchte besonders Unternehmen in den Kreisen Coesfeld und Borken Anregungen und Hilfen geben\, um die Beschäftigten in ihrer Gesundheit zu unterstützen.
URL:https://wfc-kreis-coesfeld.de/veranstaltung/fitte-firma-fruehjahr-2026/
ATTACH;FMTTYPE=image/jpeg:https://wfc-kreis-coesfeld.de/wp-content/uploads/2021/05/Social-Entrepreneurship4.jpg
END:VEVENT
BEGIN:VEVENT
DTSTART;TZID=Europe/Berlin:20260420T113000
DTEND;TZID=Europe/Berlin:20260420T123000
DTSTAMP:20260420T044556
CREATED:20260317T142732Z
LAST-MODIFIED:20260326T142041Z
UID:20018-1776684600-1776688200@wfc-kreis-coesfeld.de
SUMMARY:Online-Impuls Fachkräftesicherung: Führung in Teilzeit
DESCRIPTION:Der Fachkräftemangel stellt viele Unternehmen zunehmend auch auf Führungsebene vor Herausforderungen. Gleichzeitig wächst bei vielen Fach- und Führungskräften der Wunsch nach flexibleren Arbeitsmodellen. Führungspositionen in Teilzeit können hier ein wichtiger Ansatz sein\, um den Bewerber/innenkreis zu erweitern\, neue Zielgruppen zu erschließen und qualifizierte Mitarbeitende langfristig zu binden. \nDoch wie kann Führung in reduzierter Arbeitszeit in der Praxis erfolgreich gestaltet werden? Welche organisatorischen Voraussetzungen sind notwendig und welche Modelle haben sich bewährt? \nDiesen Fragen widmet sich der nächste Online-Impuls Fachkräftesicherung. Den fachlichen Input gibt Mustafa Semsarha vom Kompetenzzentrum Fachkräftesicherung (KOFA) in Köln. Ergänzend zeigen Praxiseinblicke aus der Region\, wie Führung in Teilzeit in der Praxis umgesetzt wird und welche Chancen und Herausforderungen damit verbunden sind. \nDie Veranstaltung richtet sich an Geschäftsführungen\, Personalverantwortliche\, Führungskräfte sowie Entscheiderinnen und Entscheider aus Unternehmen und öffentlichen Institutionen. \nAnmeldung unter: https://wfg-borken.de/event/?va=327 \nDer Online-Impuls ist eine Zusammenarbeit von:
URL:https://wfc-kreis-coesfeld.de/veranstaltung/fuehrung-in-teilzeit/
ATTACH;FMTTYPE=image/jpeg:https://wfc-kreis-coesfeld.de/wp-content/uploads/2026/03/Header-wfc-HP.jpg
END:VEVENT
BEGIN:VEVENT
DTSTART;TZID=Europe/Berlin:20260420T130000
DTEND;TZID=Europe/Berlin:20260420T160000
DTSTAMP:20260420T044556
CREATED:20260224T150643Z
LAST-MODIFIED:20260325T144654Z
UID:19941-1776690000-1776700800@wfc-kreis-coesfeld.de
SUMMARY:Digitalisierungs-Sprechstunde: Orientierung zur NIS2-Richtlinie für Unternehmen 
DESCRIPTION:Die neue EU-Richtlinie NIS2\, die im Dezember 2025 in nationales Recht überführt wurde\, stellt viele Unternehmen vor neue Herausforderungen im Bereich der Cybersicherheit und IT-Compliance. Welche Anforderungen müssen erfüllt werden? Besteht eine Pflicht zur Umsetzung? Welche ersten Maßnahmen sollten eingeleitet werden?  \nIn unserer kostenfreien NIS2-Sprechstunde haben Unternehmen aus dem Kreis Coesfeld die Möglichkeit\, in einem 30-minütigen Online-Gespräch individuelle Fragen mit unserem Experten Sven Forell\, Geschäftsführer des IT-Beratungs- & Systemhauses ConIT solutions aus Dülmen\, zu klären.  \nDie Sprechstunde eignet sich besonders für Unternehmen\, die:  \n\nerste Informationen zur NIS2-Richtlinie benötigen\,\nprüfen möchten\, ob sie von der Richtlinie betroffen sind\,\nsich zur praktischen Umsetzung beraten lassen möchten. \n\nZur Anmeldung: \nDie Sprechstunden finden in kostenloser\, individueller 1:1-Beratung via Web-Konferenz (Teams) statt. Jede Sprechstunde dauert maximal 30 Minuten. \nBitte klicken Sie auf folgenden Link\, um Ihre individuelle Sprechstunde direkt zu buchen: https://event.bevent.eu/event/4154200-DE-digitalisierungs-sprechstunde/ \nSie erhalten nach Ihrer Anmeldung den Link rechtzeitig vorab von uns per E-Mail zugesendet. \nDie Digitalisierungs-Sprechstunde ist ein gemeinsames Angebot der wfc Wirtschaftsförderung Kreis Coesfeld und der Sparkasse Westmünsterland. Sie richtet sich an alle Unternehmen\, Solo-Selbstständige und Freiberufler/innen mit Sitz im Kreis Coesfeld.
URL:https://wfc-kreis-coesfeld.de/veranstaltung/digitalisierungs-sprechstunde-nis2-richtlinie-3/
ATTACH;FMTTYPE=image/jpeg:https://wfc-kreis-coesfeld.de/wp-content/uploads/2024/09/Header-wfc-HP26.jpg
END:VEVENT
END:VCALENDAR