BEGIN:VCALENDAR
VERSION:2.0
PRODID:-//wfc Wirtschaftsförderung Kreis Coesfeld - ECPv6.11.2//NONSGML v1.0//EN
CALSCALE:GREGORIAN
METHOD:PUBLISH
X-WR-CALNAME:wfc Wirtschaftsförderung Kreis Coesfeld
X-ORIGINAL-URL:https://wfc-kreis-coesfeld.de
X-WR-CALDESC:Veranstaltungen für wfc Wirtschaftsförderung Kreis Coesfeld
REFRESH-INTERVAL;VALUE=DURATION:PT1H
X-Robots-Tag:noindex
X-PUBLISHED-TTL:PT1H
BEGIN:VTIMEZONE
TZID:Europe/Berlin
BEGIN:DAYLIGHT
TZOFFSETFROM:+0100
TZOFFSETTO:+0200
TZNAME:CEST
DTSTART:20260329T010000
END:DAYLIGHT
BEGIN:STANDARD
TZOFFSETFROM:+0200
TZOFFSETTO:+0100
TZNAME:CET
DTSTART:20261025T010000
END:STANDARD
END:VTIMEZONE
BEGIN:VEVENT
DTSTART;TZID=Europe/Berlin:20260413T123000
DTEND;TZID=Europe/Berlin:20260520T130500
DTSTAMP:20260421T035633
CREATED:20260218T145219Z
LAST-MODIFIED:20260218T145517Z
UID:19926-1776083400-1779282300@wfc-kreis-coesfeld.de
SUMMARY:Fitte Firma: Die bewegte Mittagspause ab Mitte April 2026
DESCRIPTION:Fitness und Bewegung am Arbeitsplatz über sechs Wochen hinweg: Das ermöglicht die Fitte Firma des Netzwerks GesundArbeiten in Kooperation mit den Kreissportbünden Coesfeld und Borken.\n\n\nIn kurzen\, 15-minütigen Einheiten zeigen ausgebildete Übungsleitende aus Sportvereinen der Kreise Coesfeld und Borken per Zoom-Meeting in der Mittagspause\, welche Übungen die Beschäftigten einfach und effektiv im Büro oder Zuhause machen können\, um in Bewegung zu bleiben\, sich fit zu halten oder Verspannungen zu lösen. Ziel ist es\, die Beschäftigten auf diese Weise für das Thema zu sensibilisieren\, damit sie gesund und fit in den Winter kommen. \nDie Fitte Firma findet vom 13. April bis 20. Mai 2026 jeweils montags und mittwochs in zwei Blöcken statt: 12.30 bis 12.45 Uhr sowie 12.50 bis 13.05 Uhr. Die Teilnahme ist jeweils flexibel am passenden Termin möglich. \nAlles was zur Teilnahme nötig ist\, ist ein Computer\, Laptop\, Tablet oder Handy (mit Eignung für das Videokonferenzsystem Zoom)\, ein Internetzugang sowie rund ein Quadratmeter Platz. Die Teilnahme ist ohne Umziehen und ohne Schwitzen möglich – Ausgleichs- und Entspannungsübungen stehen im Vordergrund. \nDer Kostenbeitrag für sechs Wochen beträgt pro Unternehmen einmalig 59 Euro – egal wie viele Beschäftigte am Angebot teilnehmen. Es ist daher ausreichend\, wenn nur das Unternehmen (nicht die einzelnen Beschäftigen) sich einmalig anmeldet. Bitte beachten Sie\, dass Ihre Daten zum Zweck der Rechnungsstellung einmalig an den Kreissportbund Coesfeld weitergegeben werden. \nDen Link zum Bewegungsangebot verschickt das Netzwerk GesundArbeiten kurz vor Beginn der sechswöchigen Phase an die teilnehmenden Unternehmen. Der Link sollte dann unternehmensintern an die Beschäftigen weitergeleitet werden. \nAnmeldungen über folgenden Link: https://wfg-borken.de/event/?va=311 \nDas Netzwerk GesundArbeiten \nRegelmäßig bietet das Netzwerk GesundArbeiten für jeden offene Vertiefungsworkshops zu verschiedenen Themen rund ums gesunde Arbeiten und interessanten Möglichkeiten des Betrieblichen Gesundheitmanagement an. Das Netzwerk möchte besonders Unternehmen in den Kreisen Coesfeld und Borken Anregungen und Hilfen geben\, um die Beschäftigten in ihrer Gesundheit zu unterstützen.
URL:https://wfc-kreis-coesfeld.de/veranstaltung/fitte-firma-fruehjahr-2026/
ATTACH;FMTTYPE=image/jpeg:https://wfc-kreis-coesfeld.de/wp-content/uploads/2021/05/Social-Entrepreneurship4.jpg
END:VEVENT
BEGIN:VEVENT
DTSTART;TZID=Europe/Berlin:20260421T130000
DTEND;TZID=Europe/Berlin:20260421T160000
DTSTAMP:20260421T035633
CREATED:20260224T151602Z
LAST-MODIFIED:20260325T144831Z
UID:19943-1776776400-1776787200@wfc-kreis-coesfeld.de
SUMMARY:Digitalisierungs-Sprechstunde: Datenmanagement im Mittelstand – von der Strategie zur Umsetzung
DESCRIPTION:Daten sind eine zentrale Ressource moderner Unternehmen. Gleichzeitig stehen viele mittelständische Betriebe vor der Frage\, wie sie ihre Daten sinnvoll strukturieren\, effizient nutzen und systematisch auf künftige Anforderungen wie Künstliche Intelligenz\, Automatisierung oder steigende Reportinganforderungen vorbereiten.  \nIn der Sprechstunde zum Thema Datenmanagement haben Unternehmen die Möglichkeit\, ihre individuellen Fragestellungen mit Philip Zeh\, Geschäftsführer der Stratevo data meets strategy GmbH zu besprechen. Themen können unter anderem sein: \n\nWie sieht eine praxistaugliche Datenstrategie für mein Unternehmen aus? \nWie können Daten effizient gesammelt\, strukturiert und gepflegt werden? \nWelche organisatorischen und kulturellen Voraussetzungen sind für gutes Datenmanagement notwendig?\nWie schaffe ich eine belastbare Datenbasis für Reporting\, Automatisierung und KI-Anwendungen? \n\nFalls keine konkreten Fragen vorliegen\, teilen wir Best Practices aus der Mittelstandspraxis und zeigen typische Vorgehensmodelle\, Erfolgsfaktoren und häufige Stolpersteine im Datenmanagement auf.  \nDie Session richtet sich an Geschäftsführungen\, Fach- und IT-Verantwortliche mittelständischer Unternehmen\, die Daten strategisch denken und nachhaltig in Wertschöpfung überführen möchten.  \nZur Anmeldung: \nDie Sprechstunden finden in kostenloser\, individueller 1:1-Beratung via Web-Konferenz (Teams) statt. Jede Sprechstunde dauert maximal 30 Minuten. Um Ihre individuelle Sprechstunde zu buchen\, wählen Sie bei der Anmeldung bitte das gewünschte Zeitfenster aus: https://event.bevent.eu/event/4154177-DE-digitalisierungs-sprechstunde/ \nSie erhalten nach Ihrer Anmeldung den Link rechtzeitig vorab von uns per E-Mail zugesendet. \nDie Digitalisierungs-Sprechstunde ist ein gemeinsames Angebot der wfc Wirtschaftsförderung Kreis Coesfeld und der Sparkasse Westmünsterland. Sie richtet sich an alle Unternehmen\, Solo-Selbstständige und Freiberufler/innen mit Sitz im Kreis Coesfeld.
URL:https://wfc-kreis-coesfeld.de/veranstaltung/digitalisierungs-sprechstunde-datenmanagement-im-mittelstand/
ATTACH;FMTTYPE=image/jpeg:https://wfc-kreis-coesfeld.de/wp-content/uploads/2024/09/Header-wfc-HP26.jpg
END:VEVENT
END:VCALENDAR